BEGIN:VCALENDAR
VERSION:2.0
PRODID:-//Gemeinde Unterdie&szlig;en - ECPv6.15.20//NONSGML v1.0//EN
CALSCALE:GREGORIAN
METHOD:PUBLISH
X-ORIGINAL-URL:https://unterdiessen.de
X-WR-CALDESC:Veranstaltungen für Gemeinde Unterdie&szlig;en
REFRESH-INTERVAL;VALUE=DURATION:PT1H
X-Robots-Tag:noindex
X-PUBLISHED-TTL:PT1H
BEGIN:VTIMEZONE
TZID:Europe/Berlin
BEGIN:DAYLIGHT
TZOFFSETFROM:+0100
TZOFFSETTO:+0200
TZNAME:CEST
DTSTART:20250330T010000
END:DAYLIGHT
BEGIN:STANDARD
TZOFFSETFROM:+0200
TZOFFSETTO:+0100
TZNAME:CET
DTSTART:20251026T010000
END:STANDARD
BEGIN:DAYLIGHT
TZOFFSETFROM:+0100
TZOFFSETTO:+0200
TZNAME:CEST
DTSTART:20260329T010000
END:DAYLIGHT
BEGIN:STANDARD
TZOFFSETFROM:+0200
TZOFFSETTO:+0100
TZNAME:CET
DTSTART:20261025T010000
END:STANDARD
BEGIN:DAYLIGHT
TZOFFSETFROM:+0100
TZOFFSETTO:+0200
TZNAME:CEST
DTSTART:20270328T010000
END:DAYLIGHT
BEGIN:STANDARD
TZOFFSETFROM:+0200
TZOFFSETTO:+0100
TZNAME:CET
DTSTART:20271031T010000
END:STANDARD
END:VTIMEZONE
BEGIN:VEVENT
DTSTART;TZID=Europe/Berlin:20260409T183000
DTEND;TZID=Europe/Berlin:20260409T183000
DTSTAMP:20260423T105651
CREATED:20260211T151034Z
LAST-MODIFIED:20260211T151034Z
UID:7355-1775759400-1775759400@unterdiessen.de
SUMMARY:Kirche für verstorbene Mitglieder
DESCRIPTION:
URL:https://unterdiessen.de/termin/kirche-fuer-verstorbene-mitglieder/
LOCATION:Kirche Oberdießen\, Kirchweg 12\, Unterdießen\, Bayern\, 86944
END:VEVENT
BEGIN:VEVENT
DTSTART;TZID=Europe/Berlin:20260409T193000
DTEND;TZID=Europe/Berlin:20260409T193000
DTSTAMP:20260423T105651
CREATED:20260211T151035Z
LAST-MODIFIED:20260211T151035Z
UID:7356-1775763000-1775763000@unterdiessen.de
SUMMARY:Jahresversammlung
DESCRIPTION:
URL:https://unterdiessen.de/termin/jahresversammlung/
LOCATION:Pfarrheim Oberdießen\, Oberdießen
END:VEVENT
END:VCALENDAR