BEGIN:VCALENDAR
VERSION:2.0
PRODID:-//Gemeinde Unterdie&szlig;en - ECPv6.15.20//NONSGML v1.0//EN
CALSCALE:GREGORIAN
METHOD:PUBLISH
X-ORIGINAL-URL:https://unterdiessen.de
X-WR-CALDESC:Veranstaltungen für Gemeinde Unterdie&szlig;en
REFRESH-INTERVAL;VALUE=DURATION:PT1H
X-Robots-Tag:noindex
X-PUBLISHED-TTL:PT1H
BEGIN:VTIMEZONE
TZID:Europe/Berlin
BEGIN:DAYLIGHT
TZOFFSETFROM:+0100
TZOFFSETTO:+0200
TZNAME:CEST
DTSTART:20250330T010000
END:DAYLIGHT
BEGIN:STANDARD
TZOFFSETFROM:+0200
TZOFFSETTO:+0100
TZNAME:CET
DTSTART:20251026T010000
END:STANDARD
BEGIN:DAYLIGHT
TZOFFSETFROM:+0100
TZOFFSETTO:+0200
TZNAME:CEST
DTSTART:20260329T010000
END:DAYLIGHT
BEGIN:STANDARD
TZOFFSETFROM:+0200
TZOFFSETTO:+0100
TZNAME:CET
DTSTART:20261025T010000
END:STANDARD
BEGIN:DAYLIGHT
TZOFFSETFROM:+0100
TZOFFSETTO:+0200
TZNAME:CEST
DTSTART:20270328T010000
END:DAYLIGHT
BEGIN:STANDARD
TZOFFSETFROM:+0200
TZOFFSETTO:+0100
TZNAME:CET
DTSTART:20271031T010000
END:STANDARD
END:VTIMEZONE
BEGIN:VEVENT
DTSTART;TZID=Europe/Berlin:20260703T190000
DTEND;TZID=Europe/Berlin:20260703T190000
DTSTAMP:20260423T105651
CREATED:20260211T152240Z
LAST-MODIFIED:20260211T152240Z
UID:7385-1783105200-1783105200@unterdiessen.de
SUMMARY:Blasmusik im Garten
DESCRIPTION:
URL:https://unterdiessen.de/termin/blasmusik-im-garten-3/
LOCATION:alter Spielplatz Unterdießen oder Pfarrgarten Oberdießen
ORGANIZER;CN="Musikverein Unter-/Oberdie%C3%9Fen":MAILTO:florian.seelos@t-online.de
END:VEVENT
BEGIN:VEVENT
DTSTART;TZID=Europe/Berlin:20260704T000000
DTEND;TZID=Europe/Berlin:20260704T000000
DTSTAMP:20260423T105651
CREATED:20260211T152244Z
LAST-MODIFIED:20260211T152244Z
UID:7387-1783123200-1783123200@unterdiessen.de
SUMMARY:Andechswallfahrt
DESCRIPTION:
URL:https://unterdiessen.de/termin/andechswallfahrt/
END:VEVENT
BEGIN:VEVENT
DTSTART;TZID=Europe/Berlin:20260711T140000
DTEND;TZID=Europe/Berlin:20260711T140000
DTSTAMP:20260423T105651
CREATED:20260211T152244Z
LAST-MODIFIED:20260211T152244Z
UID:7388-1783778400-1783778400@unterdiessen.de
SUMMARY:Fuchstalpokal
DESCRIPTION:
URL:https://unterdiessen.de/termin/fuchstalpokal-2/
LOCATION:Sportgelände Unterdießen
END:VEVENT
BEGIN:VEVENT
DTSTART;TZID=Europe/Berlin:20260711T200000
DTEND;TZID=Europe/Berlin:20260711T200000
DTSTAMP:20260423T105651
CREATED:20260211T152247Z
LAST-MODIFIED:20260211T152247Z
UID:7389-1783800000-1783800000@unterdiessen.de
SUMMARY:60 Jahre SVU-Feier
DESCRIPTION:
URL:https://unterdiessen.de/termin/60-jahre-svu-feier/
LOCATION:Sportgelände Unterdießen
END:VEVENT
BEGIN:VEVENT
DTSTART;TZID=Europe/Berlin:20260725T090000
DTEND;TZID=Europe/Berlin:20260725T090000
DTSTAMP:20260423T105651
CREATED:20260211T152441Z
LAST-MODIFIED:20260211T152441Z
UID:7390-1784970000-1784970000@unterdiessen.de
SUMMARY:Fuchstalpokal
DESCRIPTION:
URL:https://unterdiessen.de/termin/fuchstalpokal-3/
LOCATION:Tennisplätze
END:VEVENT
BEGIN:VEVENT
DTSTART;TZID=Europe/Berlin:20260801T000000
DTEND;TZID=Europe/Berlin:20260801T000000
DTSTAMP:20260423T105651
CREATED:20260211T152441Z
LAST-MODIFIED:20260211T152441Z
UID:7391-1785542400-1785542400@unterdiessen.de
SUMMARY:Dartturnier
DESCRIPTION:
URL:https://unterdiessen.de/termin/dartturnier/
LOCATION:Forstner Stadl
END:VEVENT
BEGIN:VEVENT
DTSTART;TZID=Europe/Berlin:20260807T200000
DTEND;TZID=Europe/Berlin:20260807T200000
DTSTAMP:20260423T105651
CREATED:20260211T152442Z
LAST-MODIFIED:20260211T152442Z
UID:7392-1786132800-1786132800@unterdiessen.de
SUMMARY:Rock am Bach
DESCRIPTION:
URL:https://unterdiessen.de/termin/rock-am-bach/
LOCATION:Forstner Stadl
END:VEVENT
BEGIN:VEVENT
DTSTART;TZID=Europe/Berlin:20260808T000000
DTEND;TZID=Europe/Berlin:20260808T000000
DTSTAMP:20260423T105651
CREATED:20260211T152443Z
LAST-MODIFIED:20260211T152443Z
UID:7393-1786147200-1786147200@unterdiessen.de
SUMMARY:Altpapier sammeln
DESCRIPTION:
URL:https://unterdiessen.de/termin/altpapier-sammeln-7/
LOCATION:Oberdießen\, Oberdießen\, Bayern\, 86944
END:VEVENT
BEGIN:VEVENT
DTSTART;TZID=Europe/Berlin:20260808T183000
DTEND;TZID=Europe/Berlin:20260808T183000
DTSTAMP:20260423T105651
CREATED:20260211T152444Z
LAST-MODIFIED:20260211T152444Z
UID:7394-1786213800-1786213800@unterdiessen.de
SUMMARY:Holzmacherfest
DESCRIPTION:
URL:https://unterdiessen.de/termin/holzmacherfest/
LOCATION:Forstner Stadl
END:VEVENT
BEGIN:VEVENT
DTSTART;TZID=Europe/Berlin:20260815T140000
DTEND;TZID=Europe/Berlin:20260815T140000
DTSTAMP:20260423T105651
CREATED:20260211T152642Z
LAST-MODIFIED:20260211T152642Z
UID:7395-1786802400-1786802400@unterdiessen.de
SUMMARY:KCO-Sommerfest: Radltour mit anschl. Grillen
DESCRIPTION:
URL:https://unterdiessen.de/termin/kco-sommerfest-radltour-mit-anschl-grillen/
LOCATION:Maibaumstadl
END:VEVENT
BEGIN:VEVENT
DTSTART;TZID=Europe/Berlin:20260829T090000
DTEND;TZID=Europe/Berlin:20260829T090000
DTSTAMP:20260423T105651
CREATED:20260211T152644Z
LAST-MODIFIED:20260211T152644Z
UID:7396-1787994000-1787994000@unterdiessen.de
SUMMARY:Altpapier sammeln
DESCRIPTION:
URL:https://unterdiessen.de/termin/altpapier-sammeln-8/
LOCATION:Unterdießen\, Ellighofrstraße 26\, Unterdießen\, Bayern\, 86944\, Deutschland
END:VEVENT
BEGIN:VEVENT
DTSTART;TZID=Europe/Berlin:20260904T190000
DTEND;TZID=Europe/Berlin:20260904T190000
DTSTAMP:20260423T105651
CREATED:20260211T152645Z
LAST-MODIFIED:20260211T152645Z
UID:7397-1788548400-1788548400@unterdiessen.de
SUMMARY:Blasmusik im Garten
DESCRIPTION:
URL:https://unterdiessen.de/termin/blasmusik-im-garten-4/
LOCATION:alter Spielplatz Unterdießen oder Pfarrgarten Oberdießen
ORGANIZER;CN="Musikverein Unter-/Oberdie%C3%9Fen":MAILTO:florian.seelos@t-online.de
END:VEVENT
BEGIN:VEVENT
DTSTART;TZID=Europe/Berlin:20260919T191500
DTEND;TZID=Europe/Berlin:20260919T191500
DTSTAMP:20260423T105651
CREATED:20260211T152647Z
LAST-MODIFIED:20260211T152647Z
UID:7398-1789845300-1789845300@unterdiessen.de
SUMMARY:Gottesdienst und Kameradschaftsabend
DESCRIPTION:
URL:https://unterdiessen.de/termin/gottesdienst-und-kameradschaftsabend/
LOCATION:Kirche Unterdießen & Rathaus
END:VEVENT
BEGIN:VEVENT
DTSTART;TZID=Europe/Berlin:20260926T191500
DTEND;TZID=Europe/Berlin:20260926T191500
DTSTAMP:20260423T105651
CREATED:20260211T152647Z
LAST-MODIFIED:20260211T152647Z
UID:7399-1790450100-1790450100@unterdiessen.de
SUMMARY:Patrozinium
DESCRIPTION:
URL:https://unterdiessen.de/termin/patrozinium/
LOCATION:Kirche Oberdießen\, Kirchweg 12\, Unterdießen\, Bayern\, 86944
END:VEVENT
BEGIN:VEVENT
DTSTART;TZID=Europe/Berlin:20261003T000000
DTEND;TZID=Europe/Berlin:20261003T000000
DTSTAMP:20260423T105651
CREATED:20260211T152843Z
LAST-MODIFIED:20260211T152843Z
UID:7400-1790985600-1790985600@unterdiessen.de
SUMMARY:Vereinsausflug
DESCRIPTION:
URL:https://unterdiessen.de/termin/vereinsausflug-2/
END:VEVENT
BEGIN:VEVENT
DTSTART;TZID=Europe/Berlin:20261007T140000
DTEND;TZID=Europe/Berlin:20261007T140000
DTSTAMP:20260423T105651
CREATED:20260211T152844Z
LAST-MODIFIED:20260211T152844Z
UID:7401-1791381600-1791381600@unterdiessen.de
SUMMARY:Seniorenkaffee
DESCRIPTION:
URL:https://unterdiessen.de/termin/seniorenkaffee-7/
END:VEVENT
BEGIN:VEVENT
DTSTART;TZID=Europe/Berlin:20261010T000000
DTEND;TZID=Europe/Berlin:20261010T000000
DTSTAMP:20260423T105651
CREATED:20260211T152845Z
LAST-MODIFIED:20260211T152845Z
UID:7402-1791590400-1791590400@unterdiessen.de
SUMMARY:Altpapier sammeln
DESCRIPTION:
URL:https://unterdiessen.de/termin/altpapier-sammeln-9/
LOCATION:Oberdießen\, Oberdießen\, Bayern\, 86944
END:VEVENT
BEGIN:VEVENT
DTSTART;TZID=Europe/Berlin:20261016T183000
DTEND;TZID=Europe/Berlin:20261016T183000
DTSTAMP:20260423T105651
CREATED:20260211T152846Z
LAST-MODIFIED:20260211T152846Z
UID:7403-1792175400-1792175400@unterdiessen.de
SUMMARY:Eröffnungsschießen
DESCRIPTION:
URL:https://unterdiessen.de/termin/eroeffnungsschiessen/
END:VEVENT
BEGIN:VEVENT
DTSTART;TZID=Europe/Berlin:20261017T000000
DTEND;TZID=Europe/Berlin:20261017T000000
DTSTAMP:20260423T105651
CREATED:20260211T152847Z
LAST-MODIFIED:20260211T152847Z
UID:7404-1792195200-1792195200@unterdiessen.de
SUMMARY:Ausflug
DESCRIPTION:
URL:https://unterdiessen.de/termin/ausflug/
END:VEVENT
BEGIN:VEVENT
DTSTART;TZID=Europe/Berlin:20261018T110000
DTEND;TZID=Europe/Berlin:20261018T110000
DTSTAMP:20260423T105651
CREATED:20260211T153044Z
LAST-MODIFIED:20260211T153044Z
UID:7405-1792321200-1792321200@unterdiessen.de
SUMMARY:Kirchweihfest
DESCRIPTION:
URL:https://unterdiessen.de/termin/kirchweihfest/
LOCATION:Maibaumstadl
END:VEVENT
BEGIN:VEVENT
DTSTART;TZID=Europe/Berlin:20261031T090000
DTEND;TZID=Europe/Berlin:20261031T090000
DTSTAMP:20260423T105651
CREATED:20260211T153044Z
LAST-MODIFIED:20260211T153044Z
UID:7406-1793437200-1793437200@unterdiessen.de
SUMMARY:Altpapier sammeln
DESCRIPTION:
URL:https://unterdiessen.de/termin/altpapier-sammeln-10/
LOCATION:Unterdießen\, Ellighofrstraße 26\, Unterdießen\, Bayern\, 86944\, Deutschland
END:VEVENT
BEGIN:VEVENT
DTSTART;TZID=Europe/Berlin:20261104T140000
DTEND;TZID=Europe/Berlin:20261104T140000
DTSTAMP:20260423T105651
CREATED:20260211T153045Z
LAST-MODIFIED:20260211T153045Z
UID:7407-1793800800-1793800800@unterdiessen.de
SUMMARY:Seniorenkaffee
DESCRIPTION:
URL:https://unterdiessen.de/termin/seniorenkaffee-8/
LOCATION:Pfarrheim Oberdießen\, Oberdießen
END:VEVENT
BEGIN:VEVENT
DTSTART;TZID=Europe/Berlin:20261107T160000
DTEND;TZID=Europe/Berlin:20261107T160000
DTSTAMP:20260423T105651
CREATED:20260211T153046Z
LAST-MODIFIED:20260211T153046Z
UID:7408-1794067200-1794067200@unterdiessen.de
SUMMARY:Veteranenjahrtag
DESCRIPTION:
URL:https://unterdiessen.de/termin/veteranenjahrtag/
LOCATION:Pfarrheim Oberdießen\, Oberdießen
END:VEVENT
BEGIN:VEVENT
DTSTART;TZID=Europe/Berlin:20261108T100000
DTEND;TZID=Europe/Berlin:20261108T100000
DTSTAMP:20260423T105651
CREATED:20260211T153048Z
LAST-MODIFIED:20260211T153048Z
UID:7409-1794132000-1794132000@unterdiessen.de
SUMMARY:Veteranenjahrtag mit Versammlung
DESCRIPTION:
URL:https://unterdiessen.de/termin/veteranenjahrtag-mit-versammlung/
LOCATION:Kirche/Gemeindesaal
END:VEVENT
BEGIN:VEVENT
DTSTART;TZID=Europe/Berlin:20261114T190000
DTEND;TZID=Europe/Berlin:20261114T190000
DTSTAMP:20260423T105651
CREATED:20260211T153245Z
LAST-MODIFIED:20260211T153245Z
UID:7410-1794682800-1794682800@unterdiessen.de
SUMMARY:Premiere
DESCRIPTION:
URL:https://unterdiessen.de/termin/premiere/
LOCATION:Mehrzweckehalle Unterdießen
END:VEVENT
BEGIN:VEVENT
DTSTART;TZID=Europe/Berlin:20261118T000000
DTEND;TZID=Europe/Berlin:20261118T000000
DTSTAMP:20260423T105651
CREATED:20260211T153248Z
LAST-MODIFIED:20260211T153251Z
UID:7411-1794960000-1794960000@unterdiessen.de
SUMMARY:Ewige Anbetung
DESCRIPTION:
URL:https://unterdiessen.de/termin/ewige-anbetung/
LOCATION:Kirche Oberdießen\, Kirchweg 12\, Unterdießen\, Bayern\, 86944
END:VEVENT
BEGIN:VEVENT
DTSTART;TZID=Europe/Berlin:20261121T190000
DTEND;TZID=Europe/Berlin:20261121T190000
DTSTAMP:20260423T105651
CREATED:20260211T153251Z
LAST-MODIFIED:20260211T153251Z
UID:7413-1795287600-1795287600@unterdiessen.de
SUMMARY:2. Vorstellung
DESCRIPTION:
URL:https://unterdiessen.de/termin/2-vorstellung/
LOCATION:Mehrzweckehalle Unterdießen
END:VEVENT
BEGIN:VEVENT
DTSTART;TZID=Europe/Berlin:20261122T160000
DTEND;TZID=Europe/Berlin:20261122T160000
DTSTAMP:20260423T105651
CREATED:20260211T153252Z
LAST-MODIFIED:20260211T153252Z
UID:7414-1795363200-1795363200@unterdiessen.de
SUMMARY:3. Vorstellung
DESCRIPTION:
URL:https://unterdiessen.de/termin/3-vorstellung/
LOCATION:Mehrzweckehalle Unterdießen
END:VEVENT
BEGIN:VEVENT
DTSTART;TZID=Europe/Berlin:20261127T190000
DTEND;TZID=Europe/Berlin:20261127T190000
DTSTAMP:20260423T105651
CREATED:20260211T153445Z
LAST-MODIFIED:20260211T153445Z
UID:7415-1795806000-1795806000@unterdiessen.de
SUMMARY:4. Vorstellung
DESCRIPTION:
URL:https://unterdiessen.de/termin/4-vorstellung/
LOCATION:Mehrzweckehalle Unterdießen
END:VEVENT
BEGIN:VEVENT
DTSTART;TZID=Europe/Berlin:20261128T090000
DTEND;TZID=Europe/Berlin:20261128T090000
DTSTAMP:20260423T105651
CREATED:20260211T153451Z
LAST-MODIFIED:20260211T153451Z
UID:7417-1795856400-1795856400@unterdiessen.de
SUMMARY:Christbaum aufstellen
DESCRIPTION:
URL:https://unterdiessen.de/termin/christbaum-aufstellen/
LOCATION:Mehrzweckehalle Unterdießen
END:VEVENT
END:VCALENDAR