BEGIN:VCALENDAR
VERSION:2.0
PRODID:-//Gemeinde Unterdie&szlig;en - ECPv6.15.20//NONSGML v1.0//EN
CALSCALE:GREGORIAN
METHOD:PUBLISH
X-ORIGINAL-URL:https://unterdiessen.de
X-WR-CALDESC:Veranstaltungen für Gemeinde Unterdie&szlig;en
REFRESH-INTERVAL;VALUE=DURATION:PT1H
X-Robots-Tag:noindex
X-PUBLISHED-TTL:PT1H
BEGIN:VTIMEZONE
TZID:Europe/Berlin
BEGIN:DAYLIGHT
TZOFFSETFROM:+0100
TZOFFSETTO:+0200
TZNAME:CEST
DTSTART:20250330T010000
END:DAYLIGHT
BEGIN:STANDARD
TZOFFSETFROM:+0200
TZOFFSETTO:+0100
TZNAME:CET
DTSTART:20251026T010000
END:STANDARD
BEGIN:DAYLIGHT
TZOFFSETFROM:+0100
TZOFFSETTO:+0200
TZNAME:CEST
DTSTART:20260329T010000
END:DAYLIGHT
BEGIN:STANDARD
TZOFFSETFROM:+0200
TZOFFSETTO:+0100
TZNAME:CET
DTSTART:20261025T010000
END:STANDARD
BEGIN:DAYLIGHT
TZOFFSETFROM:+0100
TZOFFSETTO:+0200
TZNAME:CEST
DTSTART:20270328T010000
END:DAYLIGHT
BEGIN:STANDARD
TZOFFSETFROM:+0200
TZOFFSETTO:+0100
TZNAME:CET
DTSTART:20271031T010000
END:STANDARD
END:VTIMEZONE
BEGIN:VEVENT
DTSTART;TZID=Europe/Berlin:20260103T090000
DTEND;TZID=Europe/Berlin:20260103T090000
DTSTAMP:20260423T134257
CREATED:20260211T145205Z
LAST-MODIFIED:20260211T145205Z
UID:7308-1767430800-1767430800@unterdiessen.de
SUMMARY:Neujahrsanspielen
DESCRIPTION:
URL:https://unterdiessen.de/termin/neujahrsanspielen/
LOCATION:Oberdießen\, Oberdießen\, Bayern\, 86944
ORGANIZER;CN="Musikverein Unter-/Oberdie%C3%9Fen":MAILTO:florian.seelos@t-online.de
END:VEVENT
BEGIN:VEVENT
DTSTART;TZID=Europe/Berlin:20260104T120000
DTEND;TZID=Europe/Berlin:20260104T120000
DTSTAMP:20260423T134257
CREATED:20260211T145209Z
LAST-MODIFIED:20260211T145209Z
UID:7309-1767528000-1767528000@unterdiessen.de
SUMMARY:Jagdessen
DESCRIPTION:
URL:https://unterdiessen.de/termin/jagdessen/
LOCATION:Pfarrheim Oberdießen\, Oberdießen
END:VEVENT
BEGIN:VEVENT
DTSTART;TZID=Europe/Berlin:20260105T190000
DTEND;TZID=Europe/Berlin:20260105T190000
DTSTAMP:20260423T134257
CREATED:20260211T145211Z
LAST-MODIFIED:20260211T145211Z
UID:7310-1767639600-1767639600@unterdiessen.de
SUMMARY:Jahreshauptversammlung
DESCRIPTION:
URL:https://unterdiessen.de/termin/jahreshauptversammlung/
LOCATION:Sportheim Unterdießen
END:VEVENT
BEGIN:VEVENT
DTSTART;TZID=Europe/Berlin:20260107T140000
DTEND;TZID=Europe/Berlin:20260107T140000
DTSTAMP:20260423T134257
CREATED:20260211T145214Z
LAST-MODIFIED:20260211T145214Z
UID:7311-1767794400-1767794400@unterdiessen.de
SUMMARY:Seniorenkaffee
DESCRIPTION:
URL:https://unterdiessen.de/termin/seniorenkaffee/
LOCATION:Pfarrheim Oberdießen\, Oberdießen
END:VEVENT
BEGIN:VEVENT
DTSTART;TZID=Europe/Berlin:20260109T190000
DTEND;TZID=Europe/Berlin:20260109T190000
DTSTAMP:20260423T134257
CREATED:20260211T145219Z
LAST-MODIFIED:20260211T145219Z
UID:7312-1767985200-1767985200@unterdiessen.de
SUMMARY:Jahreshauptversammlung
DESCRIPTION:
URL:https://unterdiessen.de/termin/jahreshauptversammlung-2/
LOCATION:Oberdießen\, Oberdießen\, Bayern\, 86944
END:VEVENT
BEGIN:VEVENT
DTSTART;TZID=Europe/Berlin:20260110T130000
DTEND;TZID=Europe/Berlin:20260110T130000
DTSTAMP:20260423T134257
CREATED:20260211T145225Z
LAST-MODIFIED:20260211T145225Z
UID:7313-1768050000-1768050000@unterdiessen.de
SUMMARY:KCO1 - TSV Farchant 1
DESCRIPTION:
URL:https://unterdiessen.de/termin/kco1-tsv-farchant-1/
LOCATION:Mehrzweckehalle Unterdießen
END:VEVENT
BEGIN:VEVENT
DTSTART;TZID=Europe/Berlin:20260111T140000
DTEND;TZID=Europe/Berlin:20260111T140000
DTSTAMP:20260423T134257
CREATED:20260211T145227Z
LAST-MODIFIED:20260211T145227Z
UID:7314-1768140000-1768140000@unterdiessen.de
SUMMARY:Neujahrsempfang
DESCRIPTION:
URL:https://unterdiessen.de/termin/neujahrsempfang/
LOCATION:Pfarrheim Oberdießen\, Oberdießen
ORGANIZER;CN="Gemeinde Unterdie%C3%9Fen":MAILTO:post@vgem-fuchstal.de
END:VEVENT
BEGIN:VEVENT
DTSTART;TZID=Europe/Berlin:20260116T200000
DTEND;TZID=Europe/Berlin:20260116T200000
DTSTAMP:20260423T134257
CREATED:20260211T145231Z
LAST-MODIFIED:20260211T145231Z
UID:7315-1768593600-1768593600@unterdiessen.de
SUMMARY:Jahreshauptversammlung
DESCRIPTION:
URL:https://unterdiessen.de/termin/jahreshauptversammlung-3/
END:VEVENT
BEGIN:VEVENT
DTSTART;TZID=Europe/Berlin:20260117T090000
DTEND;TZID=Europe/Berlin:20260117T090000
DTSTAMP:20260423T134257
CREATED:20260211T145234Z
LAST-MODIFIED:20260211T145234Z
UID:7316-1768640400-1768640400@unterdiessen.de
SUMMARY:Christbaumsammlung
DESCRIPTION:
URL:https://unterdiessen.de/termin/christbaumsammlung/
LOCATION:Unterdießen/Oberdießen
END:VEVENT
BEGIN:VEVENT
DTSTART;TZID=Europe/Berlin:20260117T183000
DTEND;TZID=Europe/Berlin:20260117T183000
DTSTAMP:20260423T134257
CREATED:20260211T145237Z
LAST-MODIFIED:20260211T145237Z
UID:7317-1768674600-1768674600@unterdiessen.de
SUMMARY:Jahreshauptversammlung mit Messe
DESCRIPTION:
URL:https://unterdiessen.de/termin/jahreshauptversammlung-mit-messe/
END:VEVENT
BEGIN:VEVENT
DTSTART;TZID=Europe/Berlin:20260124T100000
DTEND;TZID=Europe/Berlin:20260124T100000
DTSTAMP:20260423T134257
CREATED:20260211T145426Z
LAST-MODIFIED:20260211T145426Z
UID:7318-1769248800-1769248800@unterdiessen.de
SUMMARY:Christbaum sammeln
DESCRIPTION:
URL:https://unterdiessen.de/termin/christbaum-sammeln/
LOCATION:Oberdießen\, Oberdießen\, Bayern\, 86944
END:VEVENT
BEGIN:VEVENT
DTSTART;TZID=Europe/Berlin:20260125T100000
DTEND;TZID=Europe/Berlin:20260125T100000
DTSTAMP:20260423T134257
CREATED:20260211T145426Z
LAST-MODIFIED:20260211T145426Z
UID:7319-1769335200-1769335200@unterdiessen.de
SUMMARY:Kinderkirche
DESCRIPTION:
URL:https://unterdiessen.de/termin/kinderkirche/
LOCATION:Pfarrheim Oberdießen\, Oberdießen
END:VEVENT
BEGIN:VEVENT
DTSTART;TZID=Europe/Berlin:20260129T180000
DTEND;TZID=Europe/Berlin:20260129T180000
DTSTAMP:20260423T134257
CREATED:20260211T145427Z
LAST-MODIFIED:20260211T145427Z
UID:7320-1769709600-1769709600@unterdiessen.de
SUMMARY:Kochabend
DESCRIPTION:
URL:https://unterdiessen.de/termin/kochabend/
LOCATION:Pfarrheim Oberdießen\, Oberdießen
END:VEVENT
BEGIN:VEVENT
DTSTART;TZID=Europe/Berlin:20260131T090000
DTEND;TZID=Europe/Berlin:20260131T090000
DTSTAMP:20260423T134257
CREATED:20260211T145428Z
LAST-MODIFIED:20260211T145428Z
UID:7321-1769850000-1769850000@unterdiessen.de
SUMMARY:Christbaumabbau
DESCRIPTION:
URL:https://unterdiessen.de/termin/christbaumabbau/
LOCATION:Mehrzweckehalle Unterdießen
END:VEVENT
BEGIN:VEVENT
DTSTART;TZID=Europe/Berlin:20260131T120000
DTEND;TZID=Europe/Berlin:20260131T120000
DTSTAMP:20260423T134257
CREATED:20260211T145429Z
LAST-MODIFIED:20260211T145429Z
UID:7322-1769860800-1769860800@unterdiessen.de
SUMMARY:Kesselfleischessen
DESCRIPTION:
URL:https://unterdiessen.de/termin/kesselfleischessen/
LOCATION:FW-Haus alt Unterdießen
END:VEVENT
BEGIN:VEVENT
DTSTART;TZID=Europe/Berlin:20260131T130000
DTEND;TZID=Europe/Berlin:20260131T130000
DTSTAMP:20260423T134257
CREATED:20260211T145627Z
LAST-MODIFIED:20260211T145627Z
UID:7323-1769864400-1769864400@unterdiessen.de
SUMMARY:KCO1 - SpG Weilheim/Seeshaupt 2
DESCRIPTION:
URL:https://unterdiessen.de/termin/kco1-spg-weilheim-seeshaupt-2/
LOCATION:Mehrzweckehalle Unterdießen
END:VEVENT
BEGIN:VEVENT
DTSTART;TZID=Europe/Berlin:20260131T200000
DTEND;TZID=Europe/Berlin:20260131T200000
DTSTAMP:20260423T134257
CREATED:20260211T145628Z
LAST-MODIFIED:20260211T145628Z
UID:7324-1769889600-1769889600@unterdiessen.de
SUMMARY:Jahreshauptversammlung
DESCRIPTION:
URL:https://unterdiessen.de/termin/jahreshauptversammlung-4/
LOCATION:Maibaumstadl
END:VEVENT
END:VCALENDAR