BEGIN:VCALENDAR
VERSION:2.0
PRODID:-//Gemeinde Unterdie&szlig;en - ECPv6.15.20//NONSGML v1.0//EN
CALSCALE:GREGORIAN
METHOD:PUBLISH
X-WR-CALNAME:Gemeinde Unterdie&szlig;en
X-ORIGINAL-URL:https://unterdiessen.de
X-WR-CALDESC:Veranstaltungen für Gemeinde Unterdie&szlig;en
REFRESH-INTERVAL;VALUE=DURATION:PT1H
X-Robots-Tag:noindex
X-PUBLISHED-TTL:PT1H
BEGIN:VTIMEZONE
TZID:Europe/Berlin
BEGIN:DAYLIGHT
TZOFFSETFROM:+0100
TZOFFSETTO:+0200
TZNAME:CEST
DTSTART:20250330T010000
END:DAYLIGHT
BEGIN:STANDARD
TZOFFSETFROM:+0200
TZOFFSETTO:+0100
TZNAME:CET
DTSTART:20251026T010000
END:STANDARD
BEGIN:DAYLIGHT
TZOFFSETFROM:+0100
TZOFFSETTO:+0200
TZNAME:CEST
DTSTART:20260329T010000
END:DAYLIGHT
BEGIN:STANDARD
TZOFFSETFROM:+0200
TZOFFSETTO:+0100
TZNAME:CET
DTSTART:20261025T010000
END:STANDARD
BEGIN:DAYLIGHT
TZOFFSETFROM:+0100
TZOFFSETTO:+0200
TZNAME:CEST
DTSTART:20270328T010000
END:DAYLIGHT
BEGIN:STANDARD
TZOFFSETFROM:+0200
TZOFFSETTO:+0100
TZNAME:CET
DTSTART:20271031T010000
END:STANDARD
END:VTIMEZONE
BEGIN:VEVENT
DTSTART;TZID=Europe/Berlin:20260301T100000
DTEND;TZID=Europe/Berlin:20260301T100000
DTSTAMP:20260423T105512
CREATED:20260211T150230Z
LAST-MODIFIED:20260211T150230Z
UID:7335-1772359200-1772359200@unterdiessen.de
SUMMARY:Vereinsausflug
DESCRIPTION:
URL:https://unterdiessen.de/termin/vereinsausflug/
LOCATION:Schmiechen/Wessiszell
END:VEVENT
BEGIN:VEVENT
DTSTART;TZID=Europe/Berlin:20260304T140000
DTEND;TZID=Europe/Berlin:20260304T140000
DTSTAMP:20260423T105512
CREATED:20260211T150230Z
LAST-MODIFIED:20260211T150230Z
UID:7336-1772632800-1772632800@unterdiessen.de
SUMMARY:Seniorenkaffee
DESCRIPTION:
URL:https://unterdiessen.de/termin/seniorenkaffee-3/
LOCATION:Pfarrheim Oberdießen\, Oberdießen
END:VEVENT
BEGIN:VEVENT
DTSTART;TZID=Europe/Berlin:20260305T200000
DTEND;TZID=Europe/Berlin:20260305T200000
DTSTAMP:20260423T105512
CREATED:20260211T150231Z
LAST-MODIFIED:20260211T150231Z
UID:7337-1772740800-1772740800@unterdiessen.de
SUMMARY:Jagdgenossenschaftsgeneralversammlung
DESCRIPTION:
URL:https://unterdiessen.de/termin/jagdgenossenschaftsgeneralversammlung/
LOCATION:Pfarrheim Oberdießen\, Oberdießen
END:VEVENT
BEGIN:VEVENT
DTSTART;TZID=Europe/Berlin:20260306T143000
DTEND;TZID=Europe/Berlin:20260306T143000
DTSTAMP:20260423T105512
CREATED:20260211T150231Z
LAST-MODIFIED:20260211T150231Z
UID:7338-1772807400-1772807400@unterdiessen.de
SUMMARY:Weltgebetstag der Frauen
DESCRIPTION:
URL:https://unterdiessen.de/termin/weltgebetstag-der-frauen/
LOCATION:Kirche Oberdießen / anschließend Pfarrheim Oberdießen
END:VEVENT
BEGIN:VEVENT
DTSTART;TZID=Europe/Berlin:20260309T193000
DTEND;TZID=Europe/Berlin:20260309T193000
DTSTAMP:20260423T105512
CREATED:20260211T150232Z
LAST-MODIFIED:20260211T150232Z
UID:7339-1773084600-1773084600@unterdiessen.de
SUMMARY:Abteilungsversammlung
DESCRIPTION:
URL:https://unterdiessen.de/termin/abteilungsversammlung/
LOCATION:Sportheim Unterdießen
END:VEVENT
BEGIN:VEVENT
DTSTART;TZID=Europe/Berlin:20260314T130000
DTEND;TZID=Europe/Berlin:20260314T130000
DTSTAMP:20260423T105512
CREATED:20260211T150431Z
LAST-MODIFIED:20260211T150431Z
UID:7340-1773493200-1773493200@unterdiessen.de
SUMMARY:KCO1 - TSV Iffeldorf 1
DESCRIPTION:
URL:https://unterdiessen.de/termin/kco1-tsv-iffeldorf-1/
LOCATION:Mehrzweckehalle Unterdießen
END:VEVENT
BEGIN:VEVENT
DTSTART;TZID=Europe/Berlin:20260314T193000
DTEND;TZID=Europe/Berlin:20260314T193000
DTSTAMP:20260423T105512
CREATED:20260211T150433Z
LAST-MODIFIED:20260211T150433Z
UID:7341-1773516600-1773516600@unterdiessen.de
SUMMARY:Preisschafkopf
DESCRIPTION:
URL:https://unterdiessen.de/termin/preisschafkopf/
LOCATION:Pfarrheim Oberdießen\, Oberdießen
END:VEVENT
BEGIN:VEVENT
DTSTART;TZID=Europe/Berlin:20260318T183000
DTEND;TZID=Europe/Berlin:20260318T183000
DTSTAMP:20260423T105512
CREATED:20260211T150435Z
LAST-MODIFIED:20260211T150435Z
UID:7342-1773858600-1773858600@unterdiessen.de
SUMMARY:Kreuzweg Andacht
DESCRIPTION:
URL:https://unterdiessen.de/termin/kreuzweg-andacht/
LOCATION:Stock – Asch
END:VEVENT
BEGIN:VEVENT
DTSTART;TZID=Europe/Berlin:20260321T130000
DTEND;TZID=Europe/Berlin:20260321T130000
DTSTAMP:20260423T105512
CREATED:20260211T150436Z
LAST-MODIFIED:20260211T150436Z
UID:7343-1774098000-1774098000@unterdiessen.de
SUMMARY:KCO2 - SpG Weilheim/Seeshaupt 3
DESCRIPTION:
URL:https://unterdiessen.de/termin/kco2-spg-weilheim-seeshaupt-3/
LOCATION:Mehrzweckehalle Unterdießen
END:VEVENT
BEGIN:VEVENT
DTSTART;TZID=Europe/Berlin:20260321T190000
DTEND;TZID=Europe/Berlin:20260321T190000
DTSTAMP:20260423T105512
CREATED:20260211T150437Z
LAST-MODIFIED:20260211T150437Z
UID:7344-1774119600-1774119600@unterdiessen.de
SUMMARY:Konzert -  "In den Gassen und Tavernen des Südens" Jost Hecker Cello\, Ludwig Himpsl Percussion\, Ricardo Volkert Gitarre und Gesang
DESCRIPTION:
URL:https://unterdiessen.de/termin/konzert-in-den-gassen-und-tavernen-des-suedens-jost-hecker-cello-ludwig-himpsl-percussion-ricardo-volkert-gitarre-und-gesang/
LOCATION:Mühlweg 2 Oberdießen
END:VEVENT
BEGIN:VEVENT
DTSTART;TZID=Europe/Berlin:20260321T193000
DTEND;TZID=Europe/Berlin:20260321T193000
DTSTAMP:20260423T105512
CREATED:20260211T150632Z
LAST-MODIFIED:20260211T150632Z
UID:7345-1774121400-1774121400@unterdiessen.de
SUMMARY:Jahreshauptversammlung mit Neuwahlen
DESCRIPTION:
URL:https://unterdiessen.de/termin/jahreshauptversammlung-mit-neuwahlen/
LOCATION:Zapfenwirt
END:VEVENT
BEGIN:VEVENT
DTSTART;TZID=Europe/Berlin:20260324T000000
DTEND;TZID=Europe/Berlin:20260328T000000
DTSTAMP:20260423T105512
CREATED:20260211T150634Z
LAST-MODIFIED:20260211T150634Z
UID:7347-1774310400-1774656000@unterdiessen.de
SUMMARY:Fuchstalpokal
DESCRIPTION:
URL:https://unterdiessen.de/termin/fuchstalpokal/
END:VEVENT
BEGIN:VEVENT
DTSTART;TZID=Europe/Berlin:20260324T143000
DTEND;TZID=Europe/Berlin:20260324T143000
DTSTAMP:20260423T105512
CREATED:20260211T150634Z
LAST-MODIFIED:20260211T150634Z
UID:7346-1774362600-1774362600@unterdiessen.de
SUMMARY:Palmbuschen anfertigen
DESCRIPTION:
URL:https://unterdiessen.de/termin/palmbuschen-anfertigen/
LOCATION:Pfarrheim / Landjugend Oberdießen
END:VEVENT
BEGIN:VEVENT
DTSTART;TZID=Europe/Berlin:20260328T150000
DTEND;TZID=Europe/Berlin:20260328T150000
DTSTAMP:20260423T105512
CREATED:20260211T150637Z
LAST-MODIFIED:20260211T150637Z
UID:7348-1774710000-1774710000@unterdiessen.de
SUMMARY:Busfahrt nach Andechs
DESCRIPTION:
URL:https://unterdiessen.de/termin/busfahrt-nach-andechs/
LOCATION:Lagerhaus
END:VEVENT
BEGIN:VEVENT
DTSTART;TZID=Europe/Berlin:20260328T200000
DTEND;TZID=Europe/Berlin:20260328T200000
DTSTAMP:20260423T105512
CREATED:20260211T150638Z
LAST-MODIFIED:20260211T150638Z
UID:7349-1774728000-1774728000@unterdiessen.de
SUMMARY:Fuchstalball
DESCRIPTION:
URL:https://unterdiessen.de/termin/fuchstalball/
LOCATION:Pfarrheim Oberdießen\, Oberdießen
END:VEVENT
END:VCALENDAR