BEGIN:VCALENDAR
VERSION:2.0
PRODID:-//Gemeinde Unterdie&szlig;en - ECPv6.15.20//NONSGML v1.0//EN
CALSCALE:GREGORIAN
METHOD:PUBLISH
X-ORIGINAL-URL:https://unterdiessen.de
X-WR-CALDESC:Veranstaltungen für Gemeinde Unterdie&szlig;en
REFRESH-INTERVAL;VALUE=DURATION:PT1H
X-Robots-Tag:noindex
X-PUBLISHED-TTL:PT1H
BEGIN:VTIMEZONE
TZID:Europe/Berlin
BEGIN:DAYLIGHT
TZOFFSETFROM:+0100
TZOFFSETTO:+0200
TZNAME:CEST
DTSTART:20250330T010000
END:DAYLIGHT
BEGIN:STANDARD
TZOFFSETFROM:+0200
TZOFFSETTO:+0100
TZNAME:CET
DTSTART:20251026T010000
END:STANDARD
BEGIN:DAYLIGHT
TZOFFSETFROM:+0100
TZOFFSETTO:+0200
TZNAME:CEST
DTSTART:20260329T010000
END:DAYLIGHT
BEGIN:STANDARD
TZOFFSETFROM:+0200
TZOFFSETTO:+0100
TZNAME:CET
DTSTART:20261025T010000
END:STANDARD
BEGIN:DAYLIGHT
TZOFFSETFROM:+0100
TZOFFSETTO:+0200
TZNAME:CEST
DTSTART:20270328T010000
END:DAYLIGHT
BEGIN:STANDARD
TZOFFSETFROM:+0200
TZOFFSETTO:+0100
TZNAME:CET
DTSTART:20271031T010000
END:STANDARD
END:VTIMEZONE
BEGIN:VEVENT
DTSTART;TZID=Europe/Berlin:20260501T100000
DTEND;TZID=Europe/Berlin:20260501T100000
DTSTAMP:20260423T105732
CREATED:20260211T151436Z
LAST-MODIFIED:20260211T151436Z
UID:7365-1777629600-1777629600@unterdiessen.de
SUMMARY:Maibaum aufstellen
DESCRIPTION:
URL:https://unterdiessen.de/termin/maibaum-aufstellen/
LOCATION:Mehrzweckehalle Unterdießen
END:VEVENT
BEGIN:VEVENT
DTSTART;TZID=Europe/Berlin:20260503T120000
DTEND;TZID=Europe/Berlin:20260503T120000
DTSTAMP:20260423T105732
CREATED:20260211T151438Z
LAST-MODIFIED:20260211T151438Z
UID:7366-1777809600-1777809600@unterdiessen.de
SUMMARY:Figura nauf mach Fest
DESCRIPTION:
URL:https://unterdiessen.de/termin/figura-nauf-mach-fest/
LOCATION:Oberdießen\, Oberdießen\, Bayern\, 86944
END:VEVENT
BEGIN:VEVENT
DTSTART;TZID=Europe/Berlin:20260507T190000
DTEND;TZID=Europe/Berlin:20260507T190000
DTSTAMP:20260423T105732
CREATED:20260211T151441Z
LAST-MODIFIED:20260211T151441Z
UID:7367-1778180400-1778180400@unterdiessen.de
SUMMARY:Floriansfeier
DESCRIPTION:
URL:https://unterdiessen.de/termin/floriansfeier/
LOCATION:Pfarrheim Oberdießen\, Oberdießen
END:VEVENT
BEGIN:VEVENT
DTSTART;TZID=Europe/Berlin:20260508T190000
DTEND;TZID=Europe/Berlin:20260508T190000
DTSTAMP:20260423T105732
CREATED:20260211T151444Z
LAST-MODIFIED:20260211T151444Z
UID:7368-1778266800-1778266800@unterdiessen.de
SUMMARY:Blasmusik im Garten
DESCRIPTION:
URL:https://unterdiessen.de/termin/blasmusik-im-garten/
LOCATION:alter Spielplatz Unterdießen oder Pfarrgarten Oberdießen
ORGANIZER;CN="Musikverein Unter-/Oberdie%C3%9Fen":MAILTO:florian.seelos@t-online.de
END:VEVENT
BEGIN:VEVENT
DTSTART;TZID=Europe/Berlin:20260511T183000
DTEND;TZID=Europe/Berlin:20260511T183000
DTSTAMP:20260423T105732
CREATED:20260211T151446Z
LAST-MODIFIED:20260211T151446Z
UID:7369-1778524200-1778524200@unterdiessen.de
SUMMARY:Bittgang zur Leonhardskapelle
DESCRIPTION:
URL:https://unterdiessen.de/termin/bittgang-zur-leonhardskapelle/
END:VEVENT
BEGIN:VEVENT
DTSTART;TZID=Europe/Berlin:20260512T180000
DTEND;TZID=Europe/Berlin:20260512T180000
DTSTAMP:20260423T105732
CREATED:20260211T151637Z
LAST-MODIFIED:20260211T151637Z
UID:7370-1778608800-1778608800@unterdiessen.de
SUMMARY:Bittgang nach Ellighofen
DESCRIPTION:
URL:https://unterdiessen.de/termin/bittgang-nach-ellighofen/
END:VEVENT
BEGIN:VEVENT
DTSTART;TZID=Europe/Berlin:20260514T093000
DTEND;TZID=Europe/Berlin:20260514T093000
DTSTAMP:20260423T105732
CREATED:20260211T151641Z
LAST-MODIFIED:20260211T151641Z
UID:7371-1778751000-1778751000@unterdiessen.de
SUMMARY:Holzmacher Radltour
DESCRIPTION:
URL:https://unterdiessen.de/termin/holzmacher-radltour/
LOCATION:Sägmehlstubn
END:VEVENT
BEGIN:VEVENT
DTSTART;TZID=Europe/Berlin:20260516T090000
DTEND;TZID=Europe/Berlin:20260516T090000
DTSTAMP:20260423T105732
CREATED:20260211T151644Z
LAST-MODIFIED:20260211T151644Z
UID:7372-1778922000-1778922000@unterdiessen.de
SUMMARY:Bittgang zur Stockkapelle
DESCRIPTION:
URL:https://unterdiessen.de/termin/bittgang-zur-stockkapelle/
LOCATION:Stockkapelle
END:VEVENT
BEGIN:VEVENT
DTSTART;TZID=Europe/Berlin:20260517T110000
DTEND;TZID=Europe/Berlin:20260517T110000
DTSTAMP:20260423T105732
CREATED:20260211T151647Z
LAST-MODIFIED:20260211T151647Z
UID:7373-1779015600-1779015600@unterdiessen.de
SUMMARY:Matinee: "Magpie alley" a capella Gesang
DESCRIPTION:
URL:https://unterdiessen.de/termin/matinee-magpie-alley-a-capella-gesang/
LOCATION:Mühlweg 2 Oberdießen
END:VEVENT
BEGIN:VEVENT
DTSTART;TZID=Europe/Berlin:20260517T191500
DTEND;TZID=Europe/Berlin:20260517T191500
DTSTAMP:20260423T105732
CREATED:20260211T151650Z
LAST-MODIFIED:20260211T151650Z
UID:7374-1779045300-1779045300@unterdiessen.de
SUMMARY:Maiandacht
DESCRIPTION:
URL:https://unterdiessen.de/termin/maiandacht/
LOCATION:Kirche Unterdießen
END:VEVENT
END:VCALENDAR